BEGIN:VCALENDAR
VERSION:2.0
PRODID:-//Chamber of Commerce//Calendar//EN
METHOD:PUBLISH
BEGIN:VEVENT
UID:CHAMBERCAL-168787-85135-0
DTSTART:20260415t090000
DTEND:20260415t160000
SEQUENCE:0
STATUS:CONFIRMED
SUMMARY:62nd Annual JC Lewis Live Oak Memorial Tree Sale
LOCATION:HEB Green Space on 6th Street 6th Street\, Bay City TX 77414
DESCRIPTION:
CLASS:PUBLIC
TRANSP:OPAQUE
END:VEVENT
END:VCALENDAR